BEGIN:VCALENDAR
PRODID:-//PUBBLE//agenda//NL
VERSION:2.0
METHOD:PUBLISH
BEGIN:VEVENT
DTSTART:20250525T090000Z
DTEND:20250525T132500Z
DTSTAMP:20260421T204514Z
UID:18586ca5-320c-4aa2-9fd0-1aa085e090d3
CREATED:20260421T204514Z
NAME:Uitvaart- en Afscheidsbeurs ivm 25-jarig Jubileum geldersepost.nl
X-WR-CALNAME:Uitvaart- en Afscheidsbeurs ivm 25-jarig Jubileum
X-ALT-DESC;FMTTYPE=text/html:<a href='/agenda/2025/5/25/uitvaart-en-afscheidsbeurs-ivm-25-jarig-jubileum-516795'>/agenda/2025/5/25/uitvaart-en-afscheidsbeurs-ivm-25-jarig-jubileum-516795</a> || <p>Het is alweer 25 jaar dat ik werkzaam ben als uitvaartverzorgster. Vanuit mijn bedrijf Zorg bij Afscheid organiseer ik op zondag 25 mei 2025 een uitvaartbeurs met een diversiteit aan producten, diensten, lezingen en presentaties met en door gewaardeerde branchegenoten. Met trots kan ik ook vertellen dat Angelique Krüger een interactief Uitvaartinterview leidt, er een jubileumuitgave van mijn kinderboekje Pieter en het Treintje te koop is en de gelijknamige kinderfilm getoond zal worden. Iedereen is welkom en voor iedereen zal er vast iets zijn dat raakt of aanspreekt. Ik ontmoet jullie graag op zondag 25 mei tussen 11 uur en 15.25 uur in het Wapen van Heeckeren, Zelhemseweg 16 in Hummelo.</p>
DESCRIPTION:<a href='/agenda/2025/5/25/uitvaart-en-afscheidsbeurs-ivm-25-jarig-jubileum-516795'>/agenda/2025/5/25/uitvaart-en-afscheidsbeurs-ivm-25-jarig-jubileum-516795</a> || <p>Het is alweer 25 jaar dat ik werkzaam ben als uitvaartverzorgster. Vanuit mijn bedrijf Zorg bij Afscheid organiseer ik op zondag 25 mei 2025 een uitvaartbeurs met een diversiteit aan producten, diensten, lezingen en presentaties met en door gewaardeerde branchegenoten. Met trots kan ik ook vertellen dat Angelique Krüger een interactief Uitvaartinterview leidt, er een jubileumuitgave van mijn kinderboekje Pieter en het Treintje te koop is en de gelijknamige kinderfilm getoond zal worden. Iedereen is welkom en voor iedereen zal er vast iets zijn dat raakt of aanspreekt. Ik ontmoet jullie graag op zondag 25 mei tussen 11 uur en 15.25 uur in het Wapen van Heeckeren, Zelhemseweg 16 in Hummelo.</p>
LAST-MODIFIED:20260421T204514Z
LOCATION: Het Wapen van Heeckeren | Zelhemseweg 16 Hummelo
SEQUENCE:0
STATUS:CONFIRMED
SUMMARY:Uitvaart- en Afscheidsbeurs ivm 25-jarig Jubileum
TRANSP:OPAQUE
END:VEVENT
END:VCALENDAR
