BEGIN:VCALENDAR
PRODID:-//PUBBLE//agenda//NL
VERSION:2.0
METHOD:PUBLISH
BEGIN:VEVENT
DTSTART:20250619T160000Z
DTEND:20250619T193000Z
DTSTAMP:20260423T154527Z
UID:4dac341c-d60c-4eb6-8205-d3ae2b759d99
CREATED:20260423T154527Z
NAME:Algemene Ledenvergadering Vereniging Kruiswerk Achterhoek en Liemers en Muziekbingo geldersepost.nl
X-WR-CALNAME:Algemene Ledenvergadering Vereniging Kruiswerk Achterhoek en Liemers en Muziekbingo
X-ALT-DESC;FMTTYPE=text/html:<a href='/agenda/2025/6/19/algemene-ledenvergadering-vereniging-kruiswerk-achterhoek-en-liemers-en-muziekbingo-520341'>/agenda/2025/6/19/algemene-ledenvergadering-vereniging-kruiswerk-achterhoek-en-liemers-en-muziekbingo-520341</a> || <p>Op donderdag 19 juni ben je welkom tijdens de jaarlijkse ledenvergadering van Kruiswerk. Aansluitend is een Muziekbingo Gouwe Ouden! Tijdens deze gezellige bingo herken je bekende nummers en speel je mee voor mooie prijzen. De ALV en bingo zijn in De Kruisberg aan de Kruisbergseweg 172 in Doetinchem.</p><p><strong>Aanmelden</strong></p><p>Meld je voor 14 juni aan via het aanmeldformulier op <a href="https://www.kruiswerk.nl/alv" target="_blank">kruiswerk.nl/alv</a>. Let op VOL=VOL.</p><p><strong>Programma</strong></p><p>18.00 – 18.30&nbsp;&nbsp;&nbsp;&nbsp;&nbsp;&nbsp;&nbsp;&nbsp;&nbsp;&nbsp;&nbsp;&nbsp;&nbsp;&nbsp;&nbsp;&nbsp;&nbsp;Inloop (ontvangst leden met koffie of thee en wat lekkers)<strong><br /></strong>18:30 – 19:30&nbsp;&nbsp;&nbsp;&nbsp;&nbsp;&nbsp;&nbsp;&nbsp;&nbsp;&nbsp;&nbsp;&nbsp;&nbsp;&nbsp;&nbsp;&nbsp;&nbsp;&nbsp;Algemene ledenvergadering&nbsp;Kruiswerk<br />19.30 – 21.00&nbsp;&nbsp;&nbsp;&nbsp;&nbsp;&nbsp;&nbsp;&nbsp;&nbsp;&nbsp;&nbsp;&nbsp;&nbsp;&nbsp;&nbsp;&nbsp;&nbsp;&nbsp;Muziekbingo Gouwe Ouden</p><p>Afsluiting en gelegenheid om na te praten met een drankje</p>
DESCRIPTION:<a href='/agenda/2025/6/19/algemene-ledenvergadering-vereniging-kruiswerk-achterhoek-en-liemers-en-muziekbingo-520341'>/agenda/2025/6/19/algemene-ledenvergadering-vereniging-kruiswerk-achterhoek-en-liemers-en-muziekbingo-520341</a> || <p>Op donderdag 19 juni ben je welkom tijdens de jaarlijkse ledenvergadering van Kruiswerk. Aansluitend is een Muziekbingo Gouwe Ouden! Tijdens deze gezellige bingo herken je bekende nummers en speel je mee voor mooie prijzen. De ALV en bingo zijn in De Kruisberg aan de Kruisbergseweg 172 in Doetinchem.</p><p><strong>Aanmelden</strong></p><p>Meld je voor 14 juni aan via het aanmeldformulier op <a href="https://www.kruiswerk.nl/alv" target="_blank">kruiswerk.nl/alv</a>. Let op VOL=VOL.</p><p><strong>Programma</strong></p><p>18.00 – 18.30&nbsp;&nbsp;&nbsp;&nbsp;&nbsp;&nbsp;&nbsp;&nbsp;&nbsp;&nbsp;&nbsp;&nbsp;&nbsp;&nbsp;&nbsp;&nbsp;&nbsp;Inloop (ontvangst leden met koffie of thee en wat lekkers)<strong><br /></strong>18:30 – 19:30&nbsp;&nbsp;&nbsp;&nbsp;&nbsp;&nbsp;&nbsp;&nbsp;&nbsp;&nbsp;&nbsp;&nbsp;&nbsp;&nbsp;&nbsp;&nbsp;&nbsp;&nbsp;Algemene ledenvergadering&nbsp;Kruiswerk<br />19.30 – 21.00&nbsp;&nbsp;&nbsp;&nbsp;&nbsp;&nbsp;&nbsp;&nbsp;&nbsp;&nbsp;&nbsp;&nbsp;&nbsp;&nbsp;&nbsp;&nbsp;&nbsp;&nbsp;Muziekbingo Gouwe Ouden</p><p>Afsluiting en gelegenheid om na te praten met een drankje</p>
LAST-MODIFIED:20260423T154527Z
LOCATION: Zalencentrum de Kruisberg | Kruisbergseweg  172 Doetinchem
SEQUENCE:0
STATUS:CONFIRMED
SUMMARY:Algemene Ledenvergadering Vereniging Kruiswerk Achterhoek en Liemers en Muziekbingo
TRANSP:OPAQUE
END:VEVENT
END:VCALENDAR
