BEGIN:VCALENDAR
PRODID:-//PUBBLE//agenda//NL
VERSION:2.0
METHOD:PUBLISH
BEGIN:VEVENT
DTSTART:20260503T080000Z
DTEND:20260502T230000Z
DTSTAMP:20260423T153959Z
UID:163d3413-0c14-47af-8e01-e06895dd52e0
CREATED:20260423T153959Z
NAME:ds. D. Bos geldersepost.nl
X-WR-CALNAME:ds. D. Bos
X-ALT-DESC;FMTTYPE=text/html:<a href='/agenda/2026/5/3/ds-d-bos-545990'>/agenda/2026/5/3/ds-d-bos-545990</a> || <p>Het Wilhelmus wordt na de dienst gezongen. Daarna is er koffie of thee en de gelegenheid om elkaar te ontmoeten.</p>
DESCRIPTION:<a href='/agenda/2026/5/3/ds-d-bos-545990'>/agenda/2026/5/3/ds-d-bos-545990</a> || <p>Het Wilhelmus wordt na de dienst gezongen. Daarna is er koffie of thee en de gelegenheid om elkaar te ontmoeten.</p>
LAST-MODIFIED:20260423T153959Z
LOCATION: Remigius Kerk | Kerkstraat 15 Hengelo
SEQUENCE:0
STATUS:CONFIRMED
SUMMARY:ds. D. Bos
TRANSP:OPAQUE
END:VEVENT
END:VCALENDAR
